Package: variancePartition Version: 1.32.5 Command: /Library/Frameworks/R.framework/Resources/bin/R CMD INSTALL variancePartition StartedAt: 2024-04-16 11:49:28 -0400 (Tue, 16 Apr 2024) EndedAt: 2024-04-16 11:49:52 -0400 (Tue, 16 Apr 2024) EllapsedTime: 23.1 seconds RetCode: 0 Status: OK