Package: BSgenome Version: 1.70.2 Command: /home/hpages/bbs-3.18-bioc-R41/R/bin/R CMD build --keep-empty-dirs --no-resave-data BSgenome StartedAt: 2024-03-08 15:42:35 -0500 (Fri, 08 Mar 2024) EndedAt: 2024-03-08 15:44:28 -0500 (Fri, 08 Mar 2024) EllapsedTime: 112.6 seconds RetCode: 0 Status: OK PackageFile: BSgenome_1.70.2.tar.gz PackageFileSize: 5.784 MiB