Package: BSgenome Version: 1.70.2 Command: /home/hpages/bbs-3.18-bioc-R41/R/bin/R CMD INSTALL BSgenome StartedAt: 2024-03-08 15:33:17 -0500 (Fri, 08 Mar 2024) EndedAt: 2024-03-08 15:33:57 -0500 (Fri, 08 Mar 2024) EllapsedTime: 40.4 seconds RetCode: 0 Status: OK