Package: BSgenome Version: 1.69.0 Command: /home/hpages/bbs-3.18-bioc/R/bin/R CMD build --keep-empty-dirs --no-resave-data BSgenome StartedAt: 2023-06-01 12:38:31 -0700 (Thu, 01 Jun 2023) EndedAt: 2023-06-01 12:40:43 -0700 (Thu, 01 Jun 2023) EllapsedTime: 132.1 seconds RetCode: 0 Status: OK PackageFile: BSgenome_1.69.0.tar.gz PackageFileSize: 6.013 MiB