Package: BSgenome Version: 1.69.0 Command: /home/hpages/bbs-3.18-bioc/R/bin/R CMD INSTALL BSgenome StartedAt: 2023-06-01 12:26:44 -0700 (Thu, 01 Jun 2023) EndedAt: 2023-06-01 12:27:28 -0700 (Thu, 01 Jun 2023) EllapsedTime: 44.4 seconds RetCode: 0 Status: OK