Package: BiocNeighbors Version: 1.20.2 Command: /home/hpages/bbs-3.18-bioc-R41/R/bin/R CMD INSTALL BiocNeighbors StartedAt: 2024-03-08 15:29:10 -0500 (Fri, 08 Mar 2024) EndedAt: 2024-03-08 15:31:15 -0500 (Fri, 08 Mar 2024) EllapsedTime: 125.1 seconds RetCode: 0 Status: OK