Package: BiocNeighbors Version: 1.19.0 Command: /home/hpages/bbs-3.18-bioc/R/bin/R CMD INSTALL BiocNeighbors StartedAt: 2023-06-01 12:23:02 -0700 (Thu, 01 Jun 2023) EndedAt: 2023-06-01 12:26:12 -0700 (Thu, 01 Jun 2023) EllapsedTime: 190.2 seconds RetCode: 0 Status: OK