Package: BiocParallel Version: 1.37.0 Command: /home/biocbuild/bbs-3.18-bioc/R/bin/Rscript -e "BiocCheck::BiocCheck('BiocParallel_1.37.0.tar.gz')" StartedAt: 2023-10-24 10:46:02 -0400 (Tue, 24 Oct 2023) EndedAt: 2023-10-24 10:46:41 -0400 (Tue, 24 Oct 2023) EllapsedTime: 38.9 seconds RetCode: None Status: WARNINGS Warnings: 4