Package: BiocParallel Version: 1.36.0 Command: /home/hpages/bbs-3.18-bioc-R41/R/bin/R CMD INSTALL BiocParallel StartedAt: 2024-03-08 15:28:27 -0500 (Fri, 08 Mar 2024) EndedAt: 2024-03-08 15:28:44 -0500 (Fri, 08 Mar 2024) EllapsedTime: 16.5 seconds RetCode: 0 Status: OK