Package: BiocSingular Version: 1.18.0 Command: /home/hpages/bbs-3.18-bioc-R41/R/bin/R CMD build --keep-empty-dirs --no-resave-data BiocSingular StartedAt: 2024-03-08 15:41:45 -0500 (Fri, 08 Mar 2024) EndedAt: 2024-03-08 15:42:46 -0500 (Fri, 08 Mar 2024) EllapsedTime: 61.4 seconds RetCode: 0 Status: OK PackageFile: BiocSingular_1.18.0.tar.gz PackageFileSize: 601.9 KiB