Package: BiocSingular Version: 1.18.0 Command: /home/hpages/bbs-3.18-bioc-R41/R/bin/R CMD check --install=check:BiocSingular.install-out.txt --library=/home/hpages/bbs-3.18-bioc-R41/R/site-library --timings BiocSingular_1.18.0.tar.gz StartedAt: 2024-03-08 16:01:13 -0500 (Fri, 08 Mar 2024) EndedAt: 2024-03-08 16:05:26 -0500 (Fri, 08 Mar 2024) EllapsedTime: 253.6 seconds RetCode: 0 Status: OK CheckDir: BiocSingular.Rcheck Warnings: 0