Package: BiocSingular Version: 1.18.0 Command: /home/hpages/bbs-3.18-bioc-R41/R/bin/R CMD INSTALL BiocSingular StartedAt: 2024-03-08 15:36:48 -0500 (Fri, 08 Mar 2024) EndedAt: 2024-03-08 15:37:18 -0500 (Fri, 08 Mar 2024) EllapsedTime: 29.7 seconds RetCode: 0 Status: OK