Package: BiocStyle Version: 2.29.0 Command: /home/hpages/bbs-3.18-bioc/R/bin/R CMD build --keep-empty-dirs --no-resave-data BiocStyle StartedAt: 2023-06-01 12:37:00 -0700 (Thu, 01 Jun 2023) EndedAt: 2023-06-01 12:37:13 -0700 (Thu, 01 Jun 2023) EllapsedTime: 13.0 seconds RetCode: 0 Status: OK PackageFile: BiocStyle_2.29.0.tar.gz PackageFileSize: 702.4 KiB