Package: BiocStyle Version: 2.29.0 Command: /home/hpages/bbs-3.18-bioc/R/bin/R CMD INSTALL BiocStyle StartedAt: 2023-06-01 12:25:26 -0700 (Thu, 01 Jun 2023) EndedAt: 2023-06-01 12:25:30 -0700 (Thu, 01 Jun 2023) EllapsedTime: 4.0 seconds RetCode: 0 Status: OK