Package: ComplexHeatmap Version: 2.18.0 Command: /home/hpages/bbs-3.18-bioc-R41/R/bin/R CMD check --install=check:ComplexHeatmap.install-out.txt --library=/home/hpages/bbs-3.18-bioc-R41/R/site-library --timings ComplexHeatmap_2.18.0.tar.gz StartedAt: 2024-03-08 16:02:06 -0500 (Fri, 08 Mar 2024) EndedAt: 2024-03-08 16:07:58 -0500 (Fri, 08 Mar 2024) EllapsedTime: 352.4 seconds RetCode: 0 Status: OK CheckDir: ComplexHeatmap.Rcheck Warnings: 0