Package: DESeq2 Version: 1.42.1 Command: /home/hpages/bbs-3.18-bioc-R41/R/bin/R CMD build --keep-empty-dirs --no-resave-data DESeq2 StartedAt: 2024-03-08 15:43:26 -0500 (Fri, 08 Mar 2024) EndedAt: 2024-03-08 15:45:53 -0500 (Fri, 08 Mar 2024) EllapsedTime: 146.9 seconds RetCode: 0 Status: OK PackageFile: DESeq2_1.42.1.tar.gz PackageFileSize: 1.998 MiB