Package: DESeq2 Version: 1.41.1 Command: /home/hpages/bbs-3.18-bioc/R/bin/R CMD build --keep-empty-dirs --no-resave-data DESeq2 StartedAt: 2023-06-01 12:39:39 -0700 (Thu, 01 Jun 2023) EndedAt: 2023-06-01 12:41:08 -0700 (Thu, 01 Jun 2023) EllapsedTime: 89.0 seconds RetCode: 1 Status: ERROR PackageFile: None PackageFileSize: NA