Package: DESeq2 Version: 1.41.1 Command: /home/hpages/bbs-3.18-bioc/R/bin/R CMD INSTALL DESeq2 StartedAt: 2023-06-01 12:23:59 -0700 (Thu, 01 Jun 2023) EndedAt: 2023-06-01 12:25:05 -0700 (Thu, 01 Jun 2023) EllapsedTime: 66.1 seconds RetCode: 0 Status: OK