############################################################################## ############################################################################## ### ### Running command: ### ### /home/hpages/bbs-3.18-bioc-R41/R/bin/R CMD build --keep-empty-dirs --no-resave-data DOSE ### ############################################################################## ############################################################################## * checking for file ‘DOSE/DESCRIPTION’ ... OK * preparing ‘DOSE’: * checking DESCRIPTION meta-information ... OK * installing the package to build vignettes ----------------------------------- ERROR: dependency ‘GOSemSim’ is not available for package ‘DOSE’ * removing ‘/tmp/RtmpgJ9xNa/Rinst14920323484a8f/DOSE’ ----------------------------------- ERROR: package installation failed