############################################################################## ############################################################################## ### ### Running command: ### ### /home/hpages/bbs-3.18-bioc-R41/R/bin/R CMD INSTALL DOSE ### ############################################################################## ############################################################################## * installing to library ‘/home/hpages/bbs-3.18-bioc-R41/R/site-library’ ERROR: dependency ‘GOSemSim’ is not available for package ‘DOSE’ * removing ‘/home/hpages/bbs-3.18-bioc-R41/R/site-library/DOSE’