Package: DOSE Version: 3.28.2 Command: /home/hpages/bbs-3.18-bioc-R41/R/bin/R CMD INSTALL DOSE StartedAt: 2024-03-08 15:31:34 -0500 (Fri, 08 Mar 2024) EndedAt: 2024-03-08 15:31:34 -0500 (Fri, 08 Mar 2024) EllapsedTime: 0.3 seconds RetCode: 1 Status: ERROR