Package: DynDoc Version: 1.79.0 Command: /home/biocbuild/bbs-3.18-bioc/R/bin/R CMD INSTALL DynDoc StartedAt: 2023-06-17 01:15:26 -0400 (Sat, 17 Jun 2023) EndedAt: 2023-06-17 01:15:29 -0400 (Sat, 17 Jun 2023) EllapsedTime: 3.0 seconds RetCode: 0 Status: OK