Package: ExperimentHub Version: 2.9.1 Command: /home/biocbuild/bbs-3.18-bioc/R/bin/Rscript -e "BiocCheck::BiocCheck('ExperimentHub_2.9.1.tar.gz')" StartedAt: 2023-10-24 10:46:31 -0400 (Tue, 24 Oct 2023) EndedAt: 2023-10-24 10:46:59 -0400 (Tue, 24 Oct 2023) EllapsedTime: 28.3 seconds RetCode: None Status: ERROR Warnings: 3