Package: ExperimentHub Version: 2.10.0 Command: /home/hpages/bbs-3.18-bioc-R41/R/bin/R CMD build --keep-empty-dirs --no-resave-data ExperimentHub StartedAt: 2024-03-08 15:44:12 -0500 (Fri, 08 Mar 2024) EndedAt: 2024-03-08 15:44:59 -0500 (Fri, 08 Mar 2024) EllapsedTime: 46.5 seconds RetCode: 0 Status: OK PackageFile: ExperimentHub_2.10.0.tar.gz PackageFileSize: 485.3 KiB