Package: ExperimentHub Version: 2.10.0 Command: /home/hpages/bbs-3.18-bioc-R41/R/bin/R CMD check --install=check:ExperimentHub.install-out.txt --library=/home/hpages/bbs-3.18-bioc-R41/R/site-library --timings ExperimentHub_2.10.0.tar.gz StartedAt: 2024-03-08 16:05:27 -0500 (Fri, 08 Mar 2024) EndedAt: 2024-03-08 16:08:00 -0500 (Fri, 08 Mar 2024) EllapsedTime: 153.3 seconds RetCode: 0 Status: OK CheckDir: ExperimentHub.Rcheck Warnings: 0