Package: ExperimentHub Version: 2.10.0 Command: /home/hpages/bbs-3.18-bioc-R41/R/bin/R CMD INSTALL ExperimentHub StartedAt: 2024-03-08 15:31:42 -0500 (Fri, 08 Mar 2024) EndedAt: 2024-03-08 15:31:58 -0500 (Fri, 08 Mar 2024) EllapsedTime: 15.4 seconds RetCode: 0 Status: OK