Package: GenomicFeatures Version: 1.54.3 Maintainer: H. Pagès MaintainerEmail: hpages.on.github at gmail.com git_url: https://git.bioconductor.org/packages/GenomicFeatures git_branch: RELEASE_3_18 git_last_commit: b42fb34 git_last_commit_date: 2024-01-30 16:08:12 -0500 (Tue, 30 Jan 2024)