Package: GenomicFeatures Version: 1.54.3 Command: /home/hpages/bbs-3.18-bioc-R41/R/bin/R CMD build --keep-empty-dirs --no-resave-data GenomicFeatures StartedAt: 2024-03-08 15:45:16 -0500 (Fri, 08 Mar 2024) EndedAt: 2024-03-08 15:47:11 -0500 (Fri, 08 Mar 2024) EllapsedTime: 114.6 seconds RetCode: 1 Status: ERROR PackageFile: None PackageFileSize: NA