Package: GenomicFeatures Version: 1.54.3 Command: /home/hpages/bbs-3.18-bioc-R41/R/bin/R CMD INSTALL GenomicFeatures StartedAt: 2024-03-08 15:33:17 -0500 (Fri, 08 Mar 2024) EndedAt: 2024-03-08 15:33:59 -0500 (Fri, 08 Mar 2024) EllapsedTime: 42.9 seconds RetCode: 0 Status: OK