Package: GenomicFeatures Version: 1.53.0 Command: /home/hpages/bbs-3.18-bioc/R/bin/R CMD build --keep-empty-dirs --no-resave-data GenomicFeatures StartedAt: 2023-06-01 12:42:00 -0700 (Thu, 01 Jun 2023) EndedAt: 2023-06-01 12:43:41 -0700 (Thu, 01 Jun 2023) EllapsedTime: 101.0 seconds RetCode: 0 Status: OK PackageFile: GenomicFeatures_1.53.0.tar.gz PackageFileSize: 1.122 MiB