Package: GenomicRanges Version: 1.55.0 Command: /home/biocbuild/bbs-3.18-bioc/R/bin/Rscript -e "BiocCheck::BiocCheck('GenomicRanges_1.55.0.tar.gz')" StartedAt: 2023-10-24 10:46:53 -0400 (Tue, 24 Oct 2023) EndedAt: 2023-10-24 10:47:51 -0400 (Tue, 24 Oct 2023) EllapsedTime: 58.4 seconds RetCode: None Status: ERROR Warnings: 2