Package: GenomicRanges Version: 1.54.1 Command: /home/hpages/bbs-3.18-bioc-R41/R/bin/R CMD build --keep-empty-dirs --no-resave-data GenomicRanges StartedAt: 2024-03-08 15:45:27 -0500 (Fri, 08 Mar 2024) EndedAt: 2024-03-08 15:48:29 -0500 (Fri, 08 Mar 2024) EllapsedTime: 182.6 seconds RetCode: 0 Status: OK PackageFile: GenomicRanges_1.54.1.tar.gz PackageFileSize: 1.145 MiB