Package: GenomicRanges Version: 1.54.1 Command: /home/hpages/bbs-3.18-bioc-R41/R/bin/R CMD check --install=check:GenomicRanges.install-out.txt --library=/home/hpages/bbs-3.18-bioc-R41/R/site-library --timings GenomicRanges_1.54.1.tar.gz StartedAt: 2024-03-08 16:07:59 -0500 (Fri, 08 Mar 2024) EndedAt: 2024-03-08 16:17:46 -0500 (Fri, 08 Mar 2024) EllapsedTime: 586.7 seconds RetCode: 0 Status: OK CheckDir: GenomicRanges.Rcheck Warnings: 0