Package: Gviz Version: 1.46.1 Command: /home/hpages/bbs-3.18-bioc-R41/R/bin/R CMD INSTALL Gviz StartedAt: 2024-03-08 15:35:58 -0500 (Fri, 08 Mar 2024) EndedAt: 2024-03-08 15:37:02 -0500 (Fri, 08 Mar 2024) EllapsedTime: 63.4 seconds RetCode: 0 Status: OK