Package: Gviz Version: 1.45.0 Command: /home/hpages/bbs-3.18-bioc/R/bin/R CMD build --keep-empty-dirs --no-resave-data Gviz StartedAt: 2023-06-01 12:42:52 -0700 (Thu, 01 Jun 2023) EndedAt: 2023-06-01 12:46:47 -0700 (Thu, 01 Jun 2023) EllapsedTime: 235.1 seconds RetCode: 0 Status: OK PackageFile: Gviz_1.45.0.tar.gz PackageFileSize: 5.586 MiB