Package: Gviz Version: 1.45.0 Command: /home/hpages/bbs-3.18-bioc/R/bin/R CMD INSTALL Gviz StartedAt: 2023-06-01 12:29:34 -0700 (Thu, 01 Jun 2023) EndedAt: 2023-06-01 12:30:38 -0700 (Thu, 01 Jun 2023) EllapsedTime: 64.6 seconds RetCode: 0 Status: OK