Package: KEGGREST Version: 1.42.0 Command: /home/hpages/bbs-3.18-bioc-R41/R/bin/R CMD INSTALL KEGGREST StartedAt: 2024-03-08 15:30:55 -0500 (Fri, 08 Mar 2024) EndedAt: 2024-03-08 15:31:04 -0500 (Fri, 08 Mar 2024) EllapsedTime: 9.7 seconds RetCode: 0 Status: OK