Package: MatrixGenerics Version: 1.14.0 Command: /home/hpages/bbs-3.18-bioc-R41/R/bin/R CMD build --keep-empty-dirs --no-resave-data MatrixGenerics StartedAt: 2024-03-08 15:47:08 -0500 (Fri, 08 Mar 2024) EndedAt: 2024-03-08 15:47:09 -0500 (Fri, 08 Mar 2024) EllapsedTime: 1.0 seconds RetCode: 0 Status: OK PackageFile: MatrixGenerics_1.14.0.tar.gz PackageFileSize: 30.51 KiB