Package: OrganismDbi Version: 1.44.0 Command: /home/hpages/bbs-3.18-bioc-R41/R/bin/R CMD build --keep-empty-dirs --no-resave-data OrganismDbi StartedAt: 2024-03-08 15:47:28 -0500 (Fri, 08 Mar 2024) EndedAt: 2024-03-08 15:48:52 -0500 (Fri, 08 Mar 2024) EllapsedTime: 83.8 seconds RetCode: 0 Status: OK PackageFile: OrganismDbi_1.44.0.tar.gz PackageFileSize: 387.3 KiB