Package: OrganismDbi Version: 1.43.0 Command: /home/hpages/bbs-3.18-bioc/R/bin/R CMD check --install=check:OrganismDbi.install-out.txt --library=/home/hpages/bbs-3.18-bioc-testing/Rlibs --timings OrganismDbi_1.43.0.tar.gz StartedAt: 2023-06-01 13:18:58 -0700 (Thu, 01 Jun 2023) EndedAt: 2023-06-01 13:28:36 -0700 (Thu, 01 Jun 2023) EllapsedTime: 577.7 seconds RetCode: 0 Status: WARNINGS CheckDir: OrganismDbi.Rcheck Warnings: 1