Package: ProtGenerics Version: 1.33.1 Command: /home/biocbuild/bbs-3.18-bioc/R/bin/Rscript -e "BiocCheck::BiocCheck('ProtGenerics_1.33.1.tar.gz')" StartedAt: 2023-10-24 10:47:47 -0400 (Tue, 24 Oct 2023) EndedAt: 2023-10-24 10:47:58 -0400 (Tue, 24 Oct 2023) EllapsedTime: 11.2 seconds RetCode: None Status: ERROR Warnings: 2