Package: ROC Version: 1.78.0 Command: /home/hpages/bbs-3.18-bioc-R41/R/bin/R CMD build --keep-empty-dirs --no-resave-data ROC StartedAt: 2024-03-08 15:48:53 -0500 (Fri, 08 Mar 2024) EndedAt: 2024-03-08 15:48:58 -0500 (Fri, 08 Mar 2024) EllapsedTime: 5.0 seconds RetCode: 0 Status: OK PackageFile: ROC_1.78.0.tar.gz PackageFileSize: 251.1 KiB