Package: ROC Version: 1.78.0 Command: /home/hpages/bbs-3.18-bioc-R41/R/bin/R CMD INSTALL ROC StartedAt: 2024-03-08 15:28:30 -0500 (Fri, 08 Mar 2024) EndedAt: 2024-03-08 15:28:32 -0500 (Fri, 08 Mar 2024) EllapsedTime: 2.5 seconds RetCode: 0 Status: OK