Package: ROC Version: 1.77.0 Command: /home/hpages/bbs-3.18-bioc/R/bin/R CMD check --install=check:ROC.install-out.txt --library=/home/hpages/bbs-3.18-bioc-testing/Rlibs --timings ROC_1.77.0.tar.gz StartedAt: 2023-06-01 13:21:39 -0700 (Thu, 01 Jun 2023) EndedAt: 2023-06-01 13:22:01 -0700 (Thu, 01 Jun 2023) EllapsedTime: 21.1 seconds RetCode: 0 Status: OK CheckDir: ROC.Rcheck Warnings: 0