Package: ROC Version: 1.77.0 Command: /home/hpages/bbs-3.18-bioc/R/bin/R CMD INSTALL ROC StartedAt: 2023-06-01 12:22:33 -0700 (Thu, 01 Jun 2023) EndedAt: 2023-06-01 12:22:36 -0700 (Thu, 01 Jun 2023) EllapsedTime: 3.0 seconds RetCode: 0 Status: OK