Package: RProtoBufLib Version: 2.14.0 Maintainer: Mike Jiang MaintainerEmail: mike at ozette.ai git_url: https://git.bioconductor.org/packages/RProtoBufLib git_branch: RELEASE_3_18 git_last_commit: dfcb04c git_last_commit_date: 2023-10-24 10:57:54 -0500 (Tue, 24 Oct 2023)