Package: RProtoBufLib Version: 2.14.0 Command: /home/hpages/bbs-3.18-bioc-R41/R/bin/R CMD build --keep-empty-dirs --no-resave-data RProtoBufLib StartedAt: 2024-03-08 15:48:58 -0500 (Fri, 08 Mar 2024) EndedAt: 2024-03-08 15:53:37 -0500 (Fri, 08 Mar 2024) EllapsedTime: 279.4 seconds RetCode: 0 Status: OK PackageFile: RProtoBufLib_2.14.0.tar.gz PackageFileSize: 2.839 MiB