Package: RProtoBufLib Version: 2.14.0 Command: /home/hpages/bbs-3.18-bioc-R41/R/bin/R CMD check --install=check:RProtoBufLib.install-out.txt --library=/home/hpages/bbs-3.18-bioc-R41/R/site-library --timings RProtoBufLib_2.14.0.tar.gz StartedAt: 2024-03-08 16:14:34 -0500 (Fri, 08 Mar 2024) EndedAt: 2024-03-08 16:14:50 -0500 (Fri, 08 Mar 2024) EllapsedTime: 16.3 seconds RetCode: 0 Status: WARNINGS CheckDir: RProtoBufLib.Rcheck Warnings: 1