Package: RProtoBufLib Version: 2.14.0 Command: /home/hpages/bbs-3.18-bioc-R41/R/bin/R CMD INSTALL RProtoBufLib StartedAt: 2024-03-08 15:28:22 -0500 (Fri, 08 Mar 2024) EndedAt: 2024-03-08 15:32:44 -0500 (Fri, 08 Mar 2024) EllapsedTime: 261.8 seconds RetCode: 0 Status: OK