Package: RProtoBufLib Version: 2.13.0 Command: /home/hpages/bbs-3.18-bioc/R/bin/R CMD build --keep-empty-dirs --no-resave-data RProtoBufLib StartedAt: 2023-06-01 12:46:57 -0700 (Thu, 01 Jun 2023) EndedAt: 2023-06-01 12:54:06 -0700 (Thu, 01 Jun 2023) EllapsedTime: 428.6 seconds RetCode: 0 Status: OK PackageFile: RProtoBufLib_2.13.0.tar.gz PackageFileSize: 2.828 MiB